BEGIN:VCALENDAR
VERSION:2.0
PRODID:TU Chemnitz
METHOD:PUBLISH
X-WR-CALNAME:Veranstaltungen der TU Chemnitz
X-WR-TIMEZONE:Europe/Berlin
BEGIN:VEVENT
CLASS:PUBLIC
DTSTART;TZID="Europe/Berlin":20131212T191500
DTEND;TZID="Europe/Berlin":20131212T204500
LOCATION:Kunstsammlungen Chemnitz\, Theaterplatz\, Großer Saal
SUMMARY:Reims-Naumburg-Meißen-Burgos (Philosophische Fakultät\, Romanische Kulturwissenschaft)
DESCRIPTION:Zur europäischen Bedeutung der Kathedrale von Reims und den Spuren des Naumburger Meisters.Rahmenprogramm zur Ausstellung Imi Knoebel - Fenster für die Kathedrale von Reims (Kunstsammlungen Chemnitz in Kooperation mit der Romanischen Kulturwissenschaft)\nDr. Holger Kunde (Naumburg)\nMartin Bauch\, 531-37577\, martin.bauch@phil.tu-chemnitz.de
ORGANIZER:MAILTO:martin.bauch@phil.tu-chemnitz.de
UID:15598@www.tu-chemnitz.de
CREATED:20131118T154400Z
DTSTAMP:20210802T190958Z
END:VEVENT
END:VCALENDAR
