BEGIN:VCALENDAR
VERSION:2.0
PRODID:TU Chemnitz
METHOD:PUBLISH
X-WR-CALNAME:Veranstaltungen der TU Chemnitz
X-WR-TIMEZONE:Europe/Berlin
BEGIN:VEVENT
CLASS:PUBLIC
DTSTART;TZID="Europe/Berlin":20131121T190000
DTEND;TZID="Europe/Berlin":20131121T203000
LOCATION:Reichenhainer Str. 90\, Chemnitz (Zentr. Hörsaal- und Seminargebäude)
SUMMARY:Der DDR Werkzeugmaschinenexport Prisma in das Nichtsozialistische Wirtschaftsgebiet (Westeuropa\, Japan\, USA) (Philosophische Fakultät\, Wirtschafts- und Sozialgeschichte)
DESCRIPTION:Carsten Stark (Chemnitz)\nRudolf Boch\, 3 39 21\, rudolf.boch@phil.tu-chemnitz.de
ORGANIZER:MAILTO:sylvia.liebscht@phil.tu-chemnitz.de
UID:15584@www.tu-chemnitz.de
CREATED:20131113T130900Z
DTSTAMP:20210802T191046Z
END:VEVENT
END:VCALENDAR
