BEGIN:VCALENDAR
VERSION:2.0
PRODID:TU Chemnitz
METHOD:PUBLISH
X-WR-CALNAME:Veranstaltungen der TU Chemnitz
X-WR-TIMEZONE:Europe/Berlin
BEGIN:VEVENT
CLASS:PUBLIC
DTSTART;TZID="Europe/Berlin":20131112T180000
DTEND;TZID="Europe/Berlin":20131112T200000
LOCATION:Reichenhainer Str. 70\, Chemnitz (Rühlmann-Bau)
SUMMARY:Offener Vortrag: Smart Home - AAL (Fakultät für Elektrotechnik und Informationstechnik)
DESCRIPTION:So lange wie möglich in den eigenen vier Wänden selbstständig zu leben\, ist der Wunsch fast aller Menschen. Die intelligente Wohnung unterstützt dabei im täglichen Leben.\nProf. Birgit Wilkes\nmarkusherold@me.com
ORGANIZER:MAILTO:markusherold@me.com
UID:15574@www.tu-chemnitz.de
CREATED:20131110T190600Z
DTSTAMP:20210802T191053Z
END:VEVENT
END:VCALENDAR
