BEGIN:VCALENDAR
VERSION:2.0
PRODID:TU Chemnitz
METHOD:PUBLISH
X-WR-CALNAME:Veranstaltungen der TU Chemnitz
X-WR-TIMEZONE:Europe/Berlin
BEGIN:VEVENT
CLASS:PUBLIC
DTSTART;TZID="Europe/Berlin":20010529T160000
DTEND;TZID="Europe/Berlin":20010529T170000
LOCATION:Uni-Teil 3: Reichenhainer Str. 70\, Chemnitz (Zentr. Hörsaal- und Seminargebäude)
SUMMARY:Kunststofftechnisches Kolloquium: Globale Vermarktung von technischen Innovationen - am Beispiel der Schmelzklebstoffe (TU Chemnitz\, Allgemeiner Maschinenbau und Kunststofftechnik\, Professur Chemische Verfahrenstechnik\, Professur Polymerchemie)
DESCRIPTION:Dipl.-Ing. Harald Hillert\, Nordson Deutschland GmbH\nG. Richter\, (0371)531 8072\, imk-kt@tu-chemnitz.de
ORGANIZER:MAILTO:fmeyer@hrz.tu-chemnitz.de
UID:1557@www.tu-chemnitz.de
CREATED:20010306T124800Z
DTSTAMP:20210802T202744Z
END:VEVENT
END:VCALENDAR
