BEGIN:VCALENDAR
VERSION:2.0
PRODID:TU Chemnitz
METHOD:PUBLISH
X-WR-CALNAME:Veranstaltungen der TU Chemnitz
X-WR-TIMEZONE:Europe/Berlin
BEGIN:VEVENT
CLASS:PUBLIC
DTSTART;TZID="Europe/Berlin":20131203T153000
DTEND;TZID="Europe/Berlin":20131203T170000
LOCATION:Reichenhainer Str. 90\, Chemnitz (Zentr. Hörsaal- und Seminargebäude)
SUMMARY:Die Arbeit des Stadtrates der Stadt Chemnitz und Möglichkeiten der Bürgerbeteiligung (Seniorenkolleg)
DESCRIPTION:Axel Brückom\, Stadtrat\nSekretariat\, 0371 531-19075\, -19074 - nur dienstags
ORGANIZER:MAILTO:chhae@hrz.tu-chemnitz.de
UID:15567@www.tu-chemnitz.de
CREATED:20131110T141300Z
DTSTAMP:20210802T190959Z
END:VEVENT
END:VCALENDAR
