BEGIN:VCALENDAR
VERSION:2.0
PRODID:TU Chemnitz
METHOD:PUBLISH
X-WR-CALNAME:Veranstaltungen der TU Chemnitz
X-WR-TIMEZONE:Europe/Berlin
BEGIN:VEVENT
CLASS:PUBLIC
DTSTART;TZID="Europe/Berlin":20131112T210000
DTEND;TZID="Europe/Berlin":20131112T230000
LOCATION:Kino\, Reichenhainer Str. 35/37\, Keller
SUMMARY:["mittendrin" * campuskino] BLUE IN THE FACE (OmdU) (filmclub »mittendrin«)
DESCRIPTION:Lou Reed\, der diensthabende Liedermacher aus New York (SZ)\, ist tot. Ein Film\, der nur aus Spaß entstand. Stars\, die um die Ecke wohnten\, kamen für Kurzauftritte vorbei\, philosophierten über Gott\, die Welt\, das Rauchen\, Sex - ohne Drehbuch. Sehenswert!!\nfilmclub@tu-chemnitz.de
ORGANIZER:MAILTO:robert.gerstenberger@s2004.tu-chemnitz.de
UID:15566@www.tu-chemnitz.de
CREATED:20131108T115800Z
DTSTAMP:20210802T191056Z
END:VEVENT
END:VCALENDAR
