BEGIN:VCALENDAR
VERSION:2.0
PRODID:TU Chemnitz
METHOD:PUBLISH
X-WR-CALNAME:Veranstaltungen der TU Chemnitz
X-WR-TIMEZONE:Europe/Berlin
BEGIN:VEVENT
CLASS:PUBLIC
DTSTART;TZID="Europe/Berlin":20131112T131500
DTEND;TZID="Europe/Berlin":20131112T150000
LOCATION:Str. der Nationen 62\, Chemnitz (Böttcher-Bau)
SUMMARY:Informatik-Kolloquium (Fakultät für Informatik\, Professur Künstliche Intelligenz)
DESCRIPTION:Vortrag zum Thema: Locomotive Brain Model for Humanoid Robots\nDr. John Nassour\, Institute for Cognitive Systems\, Technische Universität München\ndekanat@informatik.tu-chemnitz.de
ORGANIZER:MAILTO:ulrike.luthe@informatik.tu-chemnitz.de
UID:15561@www.tu-chemnitz.de
CREATED:20131106T104600Z
DTSTAMP:20210802T191055Z
END:VEVENT
END:VCALENDAR
