BEGIN:VCALENDAR
VERSION:2.0
PRODID:TU Chemnitz
METHOD:PUBLISH
X-WR-CALNAME:Veranstaltungen der TU Chemnitz
X-WR-TIMEZONE:Europe/Berlin
BEGIN:VEVENT
CLASS:PUBLIC
DTSTART;TZID="Europe/Berlin":20010529T150000
DTEND;TZID="Europe/Berlin":20010529T170000
LOCATION:Uni-Teil 3: Reichenhainer Str. 70\, Chemnitz (Rühlmann-Bau)
SUMMARY:Industrielle Anwendung von Ejektoren (TU Chemnitz\, Fakultät Maschinenbau und Verfahrenstechnik gemeinsam mit dem Arbeitskreis GVC)
DESCRIPTION:Dr. Norbert Habelski\, ANA-Verfahrenstechnik GmbH Merseburg\nProf. Dr. Bernd Platzer\, 0371/531-2501\, bernd.platzer@mbv.tu-chemnitz.de
ORGANIZER:MAILTO:swi@hrz.tu-chemnitz.de
UID:1556@www.tu-chemnitz.de
CREATED:20010306T123200Z
DTSTAMP:20210802T202748Z
END:VEVENT
END:VCALENDAR
