BEGIN:VCALENDAR
VERSION:2.0
PRODID:TU Chemnitz
METHOD:PUBLISH
X-WR-CALNAME:Veranstaltungen der TU Chemnitz
X-WR-TIMEZONE:Europe/Berlin
BEGIN:VEVENT
CLASS:PUBLIC
DTSTART;TZID="Europe/Berlin":20131126T153000
DTEND;TZID="Europe/Berlin":20131126T170000
LOCATION:Reichenhainer Str. 90\, Chemnitz (Zentr. Hörsaal- und Seminargebäude)
SUMMARY:Die Hochschule Mittweida - eine moderne Bildungsinstitution mit Tradition (Seniorenkolleg)
DESCRIPTION:Prof. Dr. Ludwig Hilmer\, Rektor der Hochschule Mittweida\nSekretariat\, 0371 531-19075\, -19074 - nur dienstags
ORGANIZER:MAILTO:chhae@hrz.tu-chemnitz.de
UID:15545@www.tu-chemnitz.de
CREATED:20131030T223300Z
DTSTAMP:20210802T191049Z
END:VEVENT
END:VCALENDAR
