BEGIN:VCALENDAR
VERSION:2.0
PRODID:TU Chemnitz
METHOD:PUBLISH
X-WR-CALNAME:Veranstaltungen der TU Chemnitz
X-WR-TIMEZONE:Europe/Berlin
BEGIN:VEVENT
CLASS:PUBLIC
DTSTART;TZID="Europe/Berlin":20131126T210000
DTEND;TZID="Europe/Berlin":20131126T230000
LOCATION:Kino\, Reichenhainer Str. 35/37\, Keller
SUMMARY:["mittendrin" * campuskino] SHORTS ATTACKL STEFFI GEFÄLLT DAS! SOCIAL MEDIA UNLIMITED (filmclub »mittendrin«)
DESCRIPTION:Lust und Frust des vernetzten Kommunizierens: Hol Dir Deine Liebes-App! Schneide Dir ein Ohr ab\, um aufzufallen! Überwache Deine Freunde! Social Media unlimited\, Realitätsverlust und Ablenkungsmanöver... Privatheit hin oder her: Steffi gefällt das!\nfilmclub@tu-chemnitz.de
ORGANIZER:MAILTO:robert.gerstenberger@s2004.tu-chemnitz.de
UID:15531@www.tu-chemnitz.de
CREATED:20131028T210300Z
DTSTAMP:20210802T191049Z
END:VEVENT
END:VCALENDAR
