BEGIN:VCALENDAR
VERSION:2.0
PRODID:TU Chemnitz
METHOD:PUBLISH
X-WR-CALNAME:Veranstaltungen der TU Chemnitz
X-WR-TIMEZONE:Europe/Berlin
BEGIN:VEVENT
CLASS:PUBLIC
DTSTART;TZID="Europe/Berlin":20131114T210000
DTEND;TZID="Europe/Berlin":20131114T230000
LOCATION:Kino\, Reichenhainer Str. 35/37\, Keller
SUMMARY:["mittendrin" * campuskino] PRINCE AVALANCHE (filmclub »mittendrin«)
DESCRIPTION:Naturfreund Alvin und Partylöwe Lance stellen Fahrbahnmarkierungen wiederher. Von Enthaltsamkeit\, gebrochenem Herzen und Klugscheißerei geplagt\, fliegen bald die Fetzen. Minimalistisches Buddy/Roadmovie\, geehrt mit dem Silbernen Bären.\nfilmclub@tu-chemnitz.de
ORGANIZER:MAILTO:robert.gerstenberger@s2004.tu-chemnitz.de
UID:15528@www.tu-chemnitz.de
CREATED:20131028T205500Z
DTSTAMP:20210802T191045Z
END:VEVENT
END:VCALENDAR
