BEGIN:VCALENDAR
VERSION:2.0
PRODID:TU Chemnitz
METHOD:PUBLISH
X-WR-CALNAME:Veranstaltungen der TU Chemnitz
X-WR-TIMEZONE:Europe/Berlin
BEGIN:VEVENT
CLASS:PUBLIC
DTSTART;TZID="Europe/Berlin":20131022T080000
DTEND;TZID="Europe/Berlin":20131022T120000
LOCATION:Reichenhainer Str. 90\, Chemnitz (Zentr. Hörsaal- und Seminargebäude)
SUMMARY:Limits and Divisions of Adult and Continuing Education in 20th Century Modern Europe (FORUM PÄDAGOGIK) (Philosophische Fakultät)
DESCRIPTION:Das FORUM richtet sich an Lehrende\, Studierende und Promovierende der Pädagogik bzw. Interessierte aller Fachrichtungen und Gäste. Vorgestellt und diskutiert werden gegenwärtige theoretische\, systematische\, empirische und methodische Fragen der Pädagogik.\nDr. Balázs Németh (University of Pécs\, Hungary)\n531-34306
ORGANIZER:MAILTO:andreas.neubert@phil.tu-chemnitz.de
UID:15505@www.tu-chemnitz.de
CREATED:20131022T123800Z
DTSTAMP:20210802T191125Z
END:VEVENT
END:VCALENDAR
