BEGIN:VCALENDAR
VERSION:2.0
PRODID:TU Chemnitz
METHOD:PUBLISH
X-WR-CALNAME:Veranstaltungen der TU Chemnitz
X-WR-TIMEZONE:Europe/Berlin
BEGIN:VEVENT
CLASS:PUBLIC
DTSTART;TZID="Europe/Berlin":20010410T150000
DTEND;TZID="Europe/Berlin":20010410T150000
LOCATION:Uni-Teil 3: Reichenhainer Str. 70\, Chemnitz (Weinhold-Bau)
SUMMARY:31. Tribologie-Kolloquium: "Getriebetechnik und Getriebeschmierung in Windkraftanlagen" (Fakultät für Maschinenbau und Verfahrenstechnik\, Institut für Konstruktions- und Antriebtechnik\, Professur Tribologie)
DESCRIPTION:Dipl.-Ing. Dirk Kempkes\, Fuchs-Lubritech Mannheim\nChrista Michler\, Tel. 5 31-80 79\, Fax 5 31-22 81
ORGANIZER:MAILTO:iroe@hrz.tu-chemnitz.de
UID:1549@www.tu-chemnitz.de
CREATED:20010301T115200Z
DTSTAMP:20210802T202757Z
END:VEVENT
END:VCALENDAR
