BEGIN:VCALENDAR
VERSION:2.0
PRODID:TU Chemnitz
METHOD:PUBLISH
X-WR-CALNAME:Veranstaltungen der TU Chemnitz
X-WR-TIMEZONE:Europe/Berlin
BEGIN:VEVENT
CLASS:PUBLIC
DTSTART;TZID="Europe/Berlin":20140131T133000
DTEND;TZID="Europe/Berlin":20140131T180000
LOCATION:wird noch bekannt gegeben
SUMMARY:Grundlagen der Personalauswahl (Kompetenzschule)
DESCRIPTION:Schwerpunkt diesen Workshops bilden die Grundlagen der Personalbeschaffung und Personalauswahl\, z.B. Anforderungsprofile einer Stelle\, Stellenausschreibungen und Bewerbungen.\nOnline-Anmeldung unter http://www.tu-chemnitz.de/fa/kompetenzschule/programm_projekt.php
ORGANIZER:MAILTO:yvonne.hempel@hrz.tu-chemnitz.de
UID:15486@www.tu-chemnitz.de
CREATED:20131017T145000Z
DTSTAMP:20210802T190929Z
END:VEVENT
END:VCALENDAR
