BEGIN:VCALENDAR
VERSION:2.0
PRODID:TU Chemnitz
METHOD:PUBLISH
X-WR-CALNAME:Veranstaltungen der TU Chemnitz
X-WR-TIMEZONE:Europe/Berlin
BEGIN:VEVENT
CLASS:PUBLIC
DTSTART;TZID="Europe/Berlin":20130121T133000
DTEND;TZID="Europe/Berlin":20130121T180000
LOCATION:wird noch bekannt gegeben
SUMMARY:Im Team Konflikte erkennen und lösen (Kompetenzschule)
DESCRIPTION:Ziel dieses Workshops ist es\, Ihre Kompetenzen im Umgang mit Konflikten zu stärken. Dabei lernen Sie\, Konfliktpotentiale frühzeitig zu erkennen sowie wirkungsvolle Techniken im Umgang mit diesen einzusetzen.\nOnline-Anmeldung unter http://www.tu-chemnitz.de/fa/kompetenzschule/programm_mitarbeiter.php
ORGANIZER:MAILTO:yvonne.hempel@hrz.tu-chemnitz.de
UID:15485@www.tu-chemnitz.de
CREATED:20131017T144400Z
DTSTAMP:20210802T191833Z
END:VEVENT
END:VCALENDAR
