BEGIN:VCALENDAR
VERSION:2.0
PRODID:TU Chemnitz
METHOD:PUBLISH
X-WR-CALNAME:Veranstaltungen der TU Chemnitz
X-WR-TIMEZONE:Europe/Berlin
BEGIN:VEVENT
CLASS:PUBLIC
DTSTART;TZID="Europe/Berlin":20131017T100000
DTEND;TZID="Europe/Berlin":20131017T180000
LOCATION:wird noch bekannt gegeben
SUMMARY:Zeit als Ressource: Zeit planen - Zeit haben? (Kompetenzschule)
DESCRIPTION:In diesem Workshop erhalten Sie Einblicke in das Thema Zeit-\, Stress- sowie Selbstmanagement. Mit Hilfe verschiedenster Methoden reflektieren Sie Ihren Umgang mit Zeit sowie Ihre aktuelle Lebensbalance.\nhttp://www.tu-chemnitz.de/fa/kompetenzschule/programm_selbstmanagement.php
ORGANIZER:MAILTO:yvonne.hempel@hrz.tu-chemnitz.de
UID:15476@www.tu-chemnitz.de
CREATED:20131016T140000Z
DTSTAMP:20210802T191121Z
END:VEVENT
END:VCALENDAR
