BEGIN:VCALENDAR
VERSION:2.0
PRODID:TU Chemnitz
METHOD:PUBLISH
X-WR-CALNAME:Veranstaltungen der TU Chemnitz
X-WR-TIMEZONE:Europe/Berlin
BEGIN:VEVENT
CLASS:PUBLIC
DTSTART;TZID="Europe/Berlin":20131015T100000
DTEND;TZID="Europe/Berlin":20131015T160000
LOCATION:Pegasus-Center\, Chemnitz
SUMMARY:Tag der offenen Tür im Pegasus-Center (SAXEED\, "Unternehmenszukunft Sachsen"\, Career Service)
DESCRIPTION:Die drei Initiativen der TU Chemnitz: SAXEED-Gründernetzwerk\, Career Service und "Unternehmenszukunft Sachsen" stellen ihre Programme des WS13/14 vor!\nManuela Zenk\, 0371-531 19999\, manuela.zenk@wirtschaft.tu-chemnitz.de
ORGANIZER:MAILTO:manuela.zenk@wirtschaft.tu-chemnitz.de
UID:15459@www.tu-chemnitz.de
CREATED:20131014T115400Z
DTSTAMP:20210802T191130Z
END:VEVENT
END:VCALENDAR
