BEGIN:VCALENDAR
VERSION:2.0
PRODID:TU Chemnitz
METHOD:PUBLISH
X-WR-CALNAME:Veranstaltungen der TU Chemnitz
X-WR-TIMEZONE:Europe/Berlin
BEGIN:VEVENT
CLASS:PUBLIC
DTSTART;TZID="Europe/Berlin":20131015T171500
DTEND;TZID="Europe/Berlin":20131015T184500
LOCATION:Thüringer Weg 7\, Raum K012
SUMMARY:Einführungsveranstaltung "M.Sc. Economics" (Fakultät für Wirtschaftswissenschaften)
DESCRIPTION:Zu dieser Veranstaltung sind alle neu immatrikulierten Studenten/innen im Master-Studiengang "M.Sc. Economics" als auch Studenten höherer Fachsemester herzlich eingeladen.\nProf. Dr. Thomas Kuhn\nkeine Anmeldung notwendig
ORGANIZER:MAILTO:anja.zenker@wirtschaft.tu-chemnitz.de
UID:15451@www.tu-chemnitz.de
CREATED:20131010T145600Z
DTSTAMP:20210802T191122Z
END:VEVENT
END:VCALENDAR
