BEGIN:VCALENDAR
VERSION:2.0
PRODID:TU Chemnitz
METHOD:PUBLISH
X-WR-CALNAME:Veranstaltungen der TU Chemnitz
X-WR-TIMEZONE:Europe/Berlin
BEGIN:VEVENT
CLASS:PUBLIC
DTSTART;TZID="Europe/Berlin":20131108T090000
DTEND;TZID="Europe/Berlin":20131108T170000
LOCATION:Reichenhainer Str. 90\, Chemnitz (Zentr. Hörsaal- und Seminargebäude)
SUMMARY:Business-Knigge (TU Chemnitz\, Career Service)
DESCRIPTION:Im Workshop werden gemeinsam und in zahlreichen Übungen praxisnahe Antworten auf die häufigsten Fragen zu Stil und Etikette gefunden.\nDr. Peggy Fischer\nRonald Herzog\, 0371/531-38447\, ronald.herzog@hrz.tu-chemnitz.de
ORGANIZER:MAILTO:ronald.herzog@hrz.tu-chemnitz.de
UID:15449@www.tu-chemnitz.de
CREATED:20131009T141800Z
DTSTAMP:20210802T191053Z
END:VEVENT
END:VCALENDAR
