BEGIN:VCALENDAR
VERSION:2.0
PRODID:TU Chemnitz
METHOD:PUBLISH
X-WR-CALNAME:Veranstaltungen der TU Chemnitz
X-WR-TIMEZONE:Europe/Berlin
BEGIN:VEVENT
CLASS:PUBLIC
DTSTART;TZID="Europe/Berlin":20131015T210000
DTEND;TZID="Europe/Berlin":20131015T230000
LOCATION:Kino\, Reichenhainer Str. 35/37\, Keller
SUMMARY:["mittendrin" * campuskino] FRANCES HA (filmclub »mittendrin«)
DESCRIPTION:Rasant\, witzig\, schrill: Ein Film wie das Leben seiner Protagonistin. Immer weitertanzen\, von Apartment zu Apartment\, von Mann zu Mann\, durchs Leben. Die liebenswert ungeschickte Greta Gerwig ist ein Naturereignis. Mit viel Retro-Charme in Schwarz-Weiß.\nfilmclub@tu-chemnitz.de
ORGANIZER:MAILTO:robert.gerstenberger@s2004.tu-chemnitz.de
UID:15435@www.tu-chemnitz.de
CREATED:20131004T145800Z
DTSTAMP:20210802T191125Z
END:VEVENT
END:VCALENDAR
