BEGIN:VCALENDAR
VERSION:2.0
PRODID:TU Chemnitz
METHOD:PUBLISH
X-WR-CALNAME:Veranstaltungen der TU Chemnitz
X-WR-TIMEZONE:Europe/Berlin
BEGIN:VEVENT
CLASS:PUBLIC
DTSTART;TZID="Europe/Berlin":20131108T110000
DTEND;TZID="Europe/Berlin":20131108T130000
LOCATION:wird noch bekannt gegeben
SUMMARY:How to write a world class paper (TU Chemnitz\, Forschungsakademie)
DESCRIPTION:Wissenschaftliches Arbeiten bedeutet Publikationstätigkeit und Publikationsverarbeitung. Viele Veröffentlichungen werden jährlich produziert\, aber nur wenige schaffen schlussendlich den Sprung in hochrangige Fachzeitschriften.\nArthur Eger\nAnnett Schädlich\, 0371 - 531 37522\, forschungsakademie@tu-chemnitz.de
ORGANIZER:MAILTO:anna.zywietz@s2009.tu-chemnitz.de
UID:15419@www.tu-chemnitz.de
CREATED:20131002T095400Z
DTSTAMP:20210802T191045Z
END:VEVENT
END:VCALENDAR
