BEGIN:VCALENDAR
VERSION:2.0
PRODID:TU Chemnitz
METHOD:PUBLISH
X-WR-CALNAME:Veranstaltungen der TU Chemnitz
X-WR-TIMEZONE:Europe/Berlin
BEGIN:VEVENT
CLASS:PUBLIC
DTSTART;VALUE=DATE:20131010
DTEND;VALUE=DATE:20131010
LOCATION:Schloss Krobnitz\, Reichenbach/OL
SUMMARY:Freizügigkeit\, Sicherheit und Kriminalität an der sächsisch-tschechischen Grenze (Philosophische Fakultät\, Professuren Europäische Integration und Kultur- und Länderstudien OME)
DESCRIPTION:Die "Krobnitzer Gespräche" finden seit 2010 in Zusammenarbeit mit dem Schlesisch-Oberlausitzer Museumsverband und dem Regionalen Planungsverband Oberlausitz-Niederschlesien statt. 2013 fördert der Deutsch-Tschechische Zukunftsfonds die Tagung maßgeblich.\ndiverse aus Ptaxis und Wissenschaft\nIlona Scherm\, Tel. 0371-531 34503\, ilona.scherm@phil.tu-chemnitz.de
ORGANIZER:MAILTO:ilona.scherm@phil.tu-chemnitz.de
UID:15411@www.tu-chemnitz.de
CREATED:20131001T095600Z
DTSTAMP:20210802T191126Z
END:VEVENT
END:VCALENDAR
