BEGIN:VCALENDAR
VERSION:2.0
PRODID:TU Chemnitz
METHOD:PUBLISH
X-WR-CALNAME:Veranstaltungen der TU Chemnitz
X-WR-TIMEZONE:Europe/Berlin
BEGIN:VEVENT
CLASS:PUBLIC
DTSTART;TZID="Europe/Berlin":20131010T170000
DTEND;TZID="Europe/Berlin":20131010T193000
LOCATION:Erfenschlager Str. 73\, Chemnitz
SUMMARY:Technologiestammtisch: Innovative Werkstoffanwendungen für KMU - Werkstoffe und Oberflächentechnik erleben (Gründernetzwerk SAXEED\, IHK\, IWW)
DESCRIPTION:Die Technologiepräsentation soll die Potenziale des Instituts für Werkstoffwissenschaft und Werkstofftechnik der TU Chemnitz für eine Zusammenarbeit mit den Unternehmen der Region Südwestsachsen aufzeigen. Um eine Anmeldung wird vorab gebeten.\nMarkus Schacht\, 0371/531-19996\, markus.schacht@saxeed.net
ORGANIZER:MAILTO:marion.neumann@s2006.tu-chemnitz.de
UID:15387@www.tu-chemnitz.de
CREATED:20130926T114400Z
DTSTAMP:20210802T191119Z
END:VEVENT
END:VCALENDAR
