BEGIN:VCALENDAR
VERSION:2.0
PRODID:TU Chemnitz
METHOD:PUBLISH
X-WR-CALNAME:Veranstaltungen der TU Chemnitz
X-WR-TIMEZONE:Europe/Berlin
BEGIN:VEVENT
CLASS:PUBLIC
DTSTART;TZID="Europe/Berlin":20131113T153000
DTEND;TZID="Europe/Berlin":20131113T170000
LOCATION:Reichenhainer Str. 90\, Chemnitz (Zentr. Hörsaal- und Seminargebäude)
SUMMARY:Auslandspraktikum mit dem ERASMUS-Programm (Internationales Universitätszentrum)
DESCRIPTION:Auslandspraktikum während des Studiums - Tipps und Informationen zu Bewerbungsmöglichkeiten für Förderung von Praktika im Rahmen des ERASMUS-Programms geben heute das LEONARDO BÜRO SACHSEN und das IUZ. Vorbeischauen lohnt sich!\nEnrico Anton\, LEONARDO BÜRO SACHSEN; Oliver Sachs\, IUZ\nOliver Sachs\, 371 531 37972\, oliver.sachs@iuz.tu-chemnitz.de
ORGANIZER:MAILTO:oliver.sachs@iuz.tu-chemnitz.de
UID:15378@www.tu-chemnitz.de
CREATED:20130918T095900Z
DTSTAMP:20210802T191046Z
END:VEVENT
END:VCALENDAR
