BEGIN:VCALENDAR
VERSION:2.0
PRODID:TU Chemnitz
METHOD:PUBLISH
X-WR-CALNAME:Veranstaltungen der TU Chemnitz
X-WR-TIMEZONE:Europe/Berlin
BEGIN:VEVENT
CLASS:PUBLIC
DTSTART;TZID="Europe/Berlin":20010622T090000
DTEND;TZID="Europe/Berlin":20010623T170000
LOCATION:Uni-Teil 9: Wilhelm-Raabe-Str. 43\, Chemnitz
SUMMARY:Workshop: "Multilevel modeling analyses for social\, personality\, organizational\, and educational psychology" (Philosophische Fakultät\, Institut für Psychologie\, Differentielle Psychologie und Diagnostik)
DESCRIPTION:Prof. Dr. John B. Nezlek\, College of William and Mary\nDipl.-Psych. Ina Sellin\, Tel. +49 (0)371/531-6393\, E-Mail: ina.sellin@phil.tu-chemnitz.de
ORGANIZER:MAILTO:pfl@hrz.tu-chemnitz.de
UID:1537@www.tu-chemnitz.de
CREATED:20010221T130800Z
DTSTAMP:20210802T202731Z
END:VEVENT
END:VCALENDAR
