BEGIN:VCALENDAR
VERSION:2.0
PRODID:TU Chemnitz
METHOD:PUBLISH
X-WR-CALNAME:Veranstaltungen der TU Chemnitz
X-WR-TIMEZONE:Europe/Berlin
BEGIN:VEVENT
CLASS:PUBLIC
DTSTART;TZID="Europe/Berlin":20131022T203000
DTEND;TZID="Europe/Berlin":20131022T235900
LOCATION:Club der Kulturen\, Thüringer Weg 3
SUMMARY:Faces of Jazz 49 - Semesterauftaktkonzert und Jam-Session mit dem Trio "Zur Schönen Aussicht" (Club der Kulturen)
DESCRIPTION:Paul Berberich (Saxophon)\, Joachim Wespel (Gitarre)\, Florian Lauer (Schlagzeug)„Sanft und geheimnisvoll\, konkret und energetisch [...] Diese Musik impliziert beim Hörer Neugier auf die kommenden 'schönen Aussichten'.“ – Günter "Baby" Sommer\nZur Schönen Aussicht – Alpin urbaner Jazz aus Dresden\nwww.tu-chemnitz.de/stud/club/kulturen/wordpress/
ORGANIZER:MAILTO:thilo.bocklisch@etit.tu-chemnitz.de
UID:15366@www.tu-chemnitz.de
CREATED:20130910T095900Z
DTSTAMP:20210802T191124Z
END:VEVENT
END:VCALENDAR
