BEGIN:VCALENDAR
VERSION:2.0
PRODID:TU Chemnitz
METHOD:PUBLISH
X-WR-CALNAME:Veranstaltungen der TU Chemnitz
X-WR-TIMEZONE:Europe/Berlin
BEGIN:VEVENT
CLASS:PUBLIC
DTSTART;TZID="Europe/Berlin":20131127T090000
DTEND;TZID="Europe/Berlin":20131127T180000
LOCATION:Erfenschlager Str. 73\, Chemnitz
SUMMARY:Kompaktworkshop „Energieeffiziente Fabriken planen und betreiben" (TU Chemnitz\, Professur Fabrikplanung und Fabrikbetrieb)
DESCRIPTION:Mit dem "Energiekomptenzzentrum Logistik und Fabrikplanung" erhalten Unternehmensvertreter die Möglichkeit wertvolles Wissen sowie aktuelle Apekte der Forschung und Entwicklung zu erleben und für sich nutzbar und transparent zu machen.\nweiterbildung-fpl@tu-chemnitz.de
ORGANIZER:MAILTO:romina.poller@mb.tu-chemnitz.de
UID:15363@www.tu-chemnitz.de
CREATED:20130905T142900Z
DTSTAMP:20210802T191046Z
END:VEVENT
END:VCALENDAR
