BEGIN:VCALENDAR
VERSION:2.0
PRODID:TU Chemnitz
METHOD:PUBLISH
X-WR-CALNAME:Veranstaltungen der TU Chemnitz
X-WR-TIMEZONE:Europe/Berlin
BEGIN:VEVENT
CLASS:PUBLIC
DTSTART;TZID="Europe/Berlin":20131009T100000
DTEND;TZID="Europe/Berlin":20131009T170000
LOCATION:Str. der Nationen 62\, Chemnitz (Böttcher-Bau)
SUMMARY:Lebendige Diskussionen in Seminaren initiieren und leiten (TU Chemnitz\, Lehrpraxis im Transfer)
DESCRIPTION:Lebendige Diskussionen in Lehrveranstaltungen bilden eine Grundlage für die Entwicklung kommunikativer Fähigkeiten Studierender\, fördern den Lernprozess und bereichern zudem die Seminaratmosphäre. Wir besprechen und erproben ausgewählte Diskussionsformen.\nFranziska Klemens\nFranziska.Klemens@verwaltung.tu-chemnitz.de
ORGANIZER:MAILTO:franziska.klemens@verwaltung.tu-chemnitz.de
UID:15355@www.tu-chemnitz.de
CREATED:20130902T112300Z
DTSTAMP:20210802T191130Z
END:VEVENT
END:VCALENDAR
