BEGIN:VCALENDAR
VERSION:2.0
PRODID:TU Chemnitz
METHOD:PUBLISH
X-WR-CALNAME:Veranstaltungen der TU Chemnitz
X-WR-TIMEZONE:Europe/Berlin
BEGIN:VEVENT
CLASS:PUBLIC
DTSTART;TZID="Europe/Berlin":20131022T083000
DTEND;TZID="Europe/Berlin":20131022T100000
LOCATION:Pegasus-Center\, Chemnitz
SUMMARY:Recht für Gründer (Fakultät für Wirtschaftswissenschaften)
DESCRIPTION:Neben finanziellen Faktoren ist es wichtig\, auch den rechtlichen Rahmen einer Unternehmensgründung zu betrachten. In der Vorlesung soll mithilfe von Beispielen grundlegendes Wissen vermittelt werden.\nRobert Hieke\nmarkus.schacht@saxeed.net
ORGANIZER:MAILTO:ildiko.liebert@s2007.tu-chemnitz.de
UID:15331@www.tu-chemnitz.de
CREATED:20130820T115500Z
DTSTAMP:20210802T191130Z
END:VEVENT
END:VCALENDAR
