BEGIN:VCALENDAR
VERSION:2.0
PRODID:TU Chemnitz
METHOD:PUBLISH
X-WR-CALNAME:Veranstaltungen der TU Chemnitz
X-WR-TIMEZONE:Europe/Berlin
BEGIN:VEVENT
CLASS:PUBLIC
DTSTART;TZID="Europe/Berlin":20130807T160000
DTEND;TZID="Europe/Berlin":20130807T170000
LOCATION:Str. der Nationen 62\, Chemnitz (Böttcher-Bau)
SUMMARY:Vortrag / Chiral Metal Amides: Structural Diversity\, Anion Transformations and their Role in Asymmetric Synthesis  (Fakultät für Naturwissenschaften\, Professur für Koordinationschemie)
DESCRIPTION:Prof. Dr. Phil Andrews\, Ass. Head – Education\, School of Chemistry Monash University\, Clayton\, Melbourne\, Australia\nProf. Dr. Michael Mehring\, Tel. 0371 531 21250\, michael.mehring@chemie.tu-chemnitz.de
ORGANIZER:MAILTO:jutta.ruder@chemie.tu-chemnitz.de
UID:15301@www.tu-chemnitz.de
CREATED:20130715T104900Z
DTSTAMP:20210802T191223Z
END:VEVENT
END:VCALENDAR
