BEGIN:VCALENDAR
VERSION:2.0
PRODID:TU Chemnitz
METHOD:PUBLISH
X-WR-CALNAME:Veranstaltungen der TU Chemnitz
X-WR-TIMEZONE:Europe/Berlin
BEGIN:VEVENT
CLASS:PUBLIC
DTSTART;TZID="Europe/Berlin":20130923T090000
DTEND;TZID="Europe/Berlin":20131002T150000
LOCATION:Reichenhainer Str. 70\, Chemnitz (Rühlmann-Bau)
SUMMARY:Brückenkurs für Bachelorstudierende der Fakultät für Maschinenbau (Fakultät für Maschinenbau\, TU4U)
DESCRIPTION:Ein Brückenkurs ist ein Intensivkurs vor Beginn des Studiums\, um vorhandenes Wissen aufzufrischen und ggf. kleine Lücken zu schließen. Kursinhalt: Mathematik (Abiturwissen)\, Konstruktionslehre\, Hallenrundgänge\nUwe Dombeck\, uwe.dombeck@mb.tu-chemnitz.de
ORGANIZER:MAILTO:nicole.schott@wirtschaft.tu-chemnitz.de
UID:15297@www.tu-chemnitz.de
CREATED:20130710T110200Z
DTSTAMP:20210802T191157Z
END:VEVENT
END:VCALENDAR
