BEGIN:VCALENDAR
VERSION:2.0
PRODID:TU Chemnitz
METHOD:PUBLISH
X-WR-CALNAME:Veranstaltungen der TU Chemnitz
X-WR-TIMEZONE:Europe/Berlin
BEGIN:VEVENT
CLASS:PUBLIC
DTSTART;TZID="Europe/Berlin":20130916T090000
DTEND;TZID="Europe/Berlin":20130927T150000
LOCATION:Reichenhainer Str. 70\, Chemnitz (Weinhold-Bau)
SUMMARY:Brückenkurs Mathematik für Bachelorstudierende der Fakultät für Naturwissenschaften (Fakultät für Naturwissenschaften\, TU4U)
DESCRIPTION:Ein Brückenkurs ist ein Intensivkurs vor Beginn des Studiums\, um vorhandenes Wissen aufzufrischen und ggf. kleine Lücken zu schließen. Kursinhalt: Mathematik (Abiturwissen)\, Physik\nRené Haber\, Institut für Pysik\nRené Haber\, rene.haber@physik.tu-chemnitz.de
ORGANIZER:MAILTO:nicole.schott@wirtschaft.tu-chemnitz.de
UID:15296@www.tu-chemnitz.de
CREATED:20130710T105800Z
DTSTAMP:20210802T191157Z
END:VEVENT
END:VCALENDAR
