BEGIN:VCALENDAR
VERSION:2.0
PRODID:TU Chemnitz
METHOD:PUBLISH
X-WR-CALNAME:Veranstaltungen der TU Chemnitz
X-WR-TIMEZONE:Europe/Berlin
BEGIN:VEVENT
CLASS:PUBLIC
DTSTART;TZID="Europe/Berlin":20130710T090000
DTEND;TZID="Europe/Berlin":20130712T150000
LOCATION:University of Manchester
SUMMARY:8th International Conference in Critical Management Studies (Fakultät für Wirtschaftswissenschaften\, Juniorprofessur Europäisches Management)
DESCRIPTION:In Kooperation mit Elke Weik (University of Leicester\, UK) organisiert die Professur einen Konferenzstream zum Thema: "Cynical? Constructive? Comfortable? Critical? –Rethinking the C in Critical Management Studies"\nJun.-Prof. Dr. Ronald Hartz\nDr. Ronald Hartz\, ronald.hartz@wirtschaft.tu-chemnitz.de
ORGANIZER:MAILTO:ronald.hartz@wirtschaft.tu-chemnitz.de
UID:15280@www.tu-chemnitz.de
CREATED:20130706T061400Z
DTSTAMP:20210802T191238Z
END:VEVENT
END:VCALENDAR
