BEGIN:VCALENDAR
VERSION:2.0
PRODID:TU Chemnitz
METHOD:PUBLISH
X-WR-CALNAME:Veranstaltungen der TU Chemnitz
X-WR-TIMEZONE:Europe/Berlin
BEGIN:VEVENT
CLASS:PUBLIC
DTSTART;TZID="Europe/Berlin":20130710T171500
DTEND;TZID="Europe/Berlin":20130710T183000
LOCATION:Reichenhainer Str. 90\, Chemnitz (Zentr. Hörsaal- und Seminargebäude)
SUMMARY:Physikalisches Kolloquium (Fakultät für Naturwissenschaften\, Institut für Physik)
DESCRIPTION:Thema: "Advances in Raman Spectroscopy for Monitoring Processes"\nDr. Ovidiu Gordan (TU Chemnitz)\nProf. Dr. D. Zahn
ORGANIZER:MAILTO:evelin.straube@physik.tu-chemnitz.de
UID:15277@www.tu-chemnitz.de
CREATED:20130703T152800Z
DTSTAMP:20210802T191233Z
END:VEVENT
END:VCALENDAR
