BEGIN:VCALENDAR
VERSION:2.0
PRODID:TU Chemnitz
METHOD:PUBLISH
X-WR-CALNAME:Veranstaltungen der TU Chemnitz
X-WR-TIMEZONE:Europe/Berlin
BEGIN:VEVENT
CLASS:PUBLIC
DTSTART;TZID="Europe/Berlin":20130626T130000
DTEND;TZID="Europe/Berlin":20130626T150000
LOCATION:Web-Konferenz
SUMMARY:OPAL-Sprechstunde (Universitätsrechenzentrum\, Yvonne Mußmacher\, Frank Richter)
DESCRIPTION:Fragen rund um Ihre OPAL-Kurse\, Problembehebung\, Erfahrungsaustausch -Teilnahme via Webbrowser: https://tu-chemnitz.webex.com/tu-chemnitz/j.php?ED=217742142&UID=504704222&PW=NM2QxZmU2NzZh&RT=OCMyNQ%3D%3D und Headset\nbei Problemen: Tel. 38547
ORGANIZER:MAILTO:frank.richter@hrz.tu-chemnitz.de
UID:15252@www.tu-chemnitz.de
CREATED:20130619T140000Z
DTSTAMP:20210802T191322Z
END:VEVENT
END:VCALENDAR
