BEGIN:VCALENDAR
VERSION:2.0
PRODID:TU Chemnitz
METHOD:PUBLISH
X-WR-CALNAME:Veranstaltungen der TU Chemnitz
X-WR-TIMEZONE:Europe/Berlin
BEGIN:VEVENT
CLASS:PUBLIC
DTSTART;TZID="Europe/Berlin":20130702T171500
DTEND;TZID="Europe/Berlin":20130702T171500
LOCATION:Reichenhainer Str. 70\, Chemnitz (Neues Physikgebäude)
SUMMARY:"Fit für die Zukunft - Anknüpfungspunkte für marktgerechte Forschung" (Fakultät für Wirtschaftswissenschaften\, Gründernetzwerk SAXEED)
DESCRIPTION:Das Gründernetzwerk SAXEED lädt gemeinsam mit seinen Partnern zur Informations- und Vernetzungsveranstaltung am 2. Juli 2013 ab 17.15 Uhr auf den Technologie-Campus ein – Um Anmeldung per E-Mail/Fax wird gebeten – Details:\nMinisterialrat Christoph Zimmer-Conrad\, Jörg Sattler (Wirtschaftsjournal)\, Sören Schuster (TGFS)\nSusanne Schübel (susanne.schuebel@saxeed.net; Tel. 0371 531 37689)
ORGANIZER:MAILTO:susanne.schuebel@wirtschaft.tu-chemnitz.de
UID:15250@www.tu-chemnitz.de
CREATED:20130617T140500Z
DTSTAMP:20210802T191236Z
END:VEVENT
END:VCALENDAR
