BEGIN:VCALENDAR
VERSION:2.0
PRODID:TU Chemnitz
METHOD:PUBLISH
X-WR-CALNAME:Veranstaltungen der TU Chemnitz
X-WR-TIMEZONE:Europe/Berlin
BEGIN:VEVENT
CLASS:PUBLIC
DTSTART;VALUE=DATE:20010417
DTEND;TZID="Europe/Berlin":20010518T230000
LOCATION:
SUMMARY:Data-Mining-Cup 2001 (Arbeitsgruppe Künstliche Intelligenz der TU Chemnitz und PRUDENTIAL SYSTEMS SOFTWARE GmbH)
DESCRIPTION:Im Frühjahr/Sommer 2001 wird zum zweiten Mal deutschlandweit der Data-Mining-Cup 2001 ausgerichtet\, in welchem sich Studierende im Wettstreit um die beste Lösung eines Datenanalyseproblems messen können.\n\nDr. Jens Zeidler\, 0371 5311392\, jzei@informatik.tu-chemnitz.de
ORGANIZER:MAILTO:jzei@informatik.tu-chemnitz.de
UID:1524@www.tu-chemnitz.de
CREATED:20010213T110400Z
DTSTAMP:20210802T202757Z
END:VEVENT
END:VCALENDAR
