BEGIN:VCALENDAR
VERSION:2.0
PRODID:TU Chemnitz
METHOD:PUBLISH
X-WR-CALNAME:Veranstaltungen der TU Chemnitz
X-WR-TIMEZONE:Europe/Berlin
BEGIN:VEVENT
CLASS:PUBLIC
DTSTART;TZID="Europe/Berlin":20010320T153000
DTEND;TZID="Europe/Berlin":20010320T153000
LOCATION:GFE-IPMT/TLDZ Chemnitz\, Lassallestraße 14\, 09117 Chemnitz/Siegmar
SUMMARY:"Überblick zu pulvermetallurgisch erzeugten Werkstoffen unter besonderer Berücksichtigung von TiC-Hartstoffen" (Fakultät für Maschinenbau und Verfahrenstechnik\, AWT/VDI-Arbeitskreis Wärmebehandlung und Werkstofftechnik Chemnitz/Freiberg\, Gesellschaft für Werkstofftechnik)
DESCRIPTION:Dr. Michael Foller\, Edelstahl Witten-Krefeld GmbH\nDipl.-Ing. Ulrich Thieme\, Tel. 3363222
ORGANIZER:MAILTO:iroe@hrz.tu-chemnitz.de
UID:1523@www.tu-chemnitz.de
CREATED:20010212T152000Z
DTSTAMP:20210802T202805Z
END:VEVENT
END:VCALENDAR
