BEGIN:VCALENDAR
VERSION:2.0
PRODID:TU Chemnitz
METHOD:PUBLISH
X-WR-CALNAME:Veranstaltungen der TU Chemnitz
X-WR-TIMEZONE:Europe/Berlin
BEGIN:VEVENT
CLASS:PUBLIC
DTSTART;TZID="Europe/Berlin":20130717T130000
DTEND;TZID="Europe/Berlin":20130717T150000
LOCATION:Maschinenhalle H3
SUMMARY:Schülercampus - Roboterprogrammierung (TUChemnitz4U)
DESCRIPTION:Die Teilnahme ist auf max. 8 Personen beschränkt.Anmeldung unter: http://www.tu-chemnitz.de/verwaltung/bmbf/schuelercampus/\nDr. Alexander Winkler\nNicole Müller\, 0371-531 38945
ORGANIZER:MAILTO:nicole.mueller@verwaltung.tu-chemnitz.de
UID:15208@www.tu-chemnitz.de
CREATED:20130611T101700Z
DTSTAMP:20210802T191235Z
END:VEVENT
END:VCALENDAR
