BEGIN:VCALENDAR
VERSION:2.0
PRODID:TU Chemnitz
METHOD:PUBLISH
X-WR-CALNAME:Veranstaltungen der TU Chemnitz
X-WR-TIMEZONE:Europe/Berlin
BEGIN:VEVENT
CLASS:PUBLIC
DTSTART;TZID="Europe/Berlin":20130612T161500
DTEND;TZID="Europe/Berlin":20130612T180000
LOCATION:Str. der Nationen 62\, Chemnitz (Altes Heizhaus)
SUMMARY:Informatik-Kolloquium (Fakultät für Informatik\, Professur Technische Informatik)
DESCRIPTION:Vortrag zum Thema: " Virtuelle Absicherung"\nProf. Dr. Ralf Reißig\, Hochschule Coburg\ndekanat@informatik.tu-chemnitz.de
ORGANIZER:MAILTO:ulrike.luthe@informatik.tu-chemnitz.de
UID:15201@www.tu-chemnitz.de
CREATED:20130607T130300Z
DTSTAMP:20210802T191307Z
END:VEVENT
END:VCALENDAR
