BEGIN:VCALENDAR
VERSION:2.0
PRODID:TU Chemnitz
METHOD:PUBLISH
X-WR-CALNAME:Veranstaltungen der TU Chemnitz
X-WR-TIMEZONE:Europe/Berlin
BEGIN:VEVENT
CLASS:PUBLIC
DTSTART;TZID="Europe/Berlin":20130706T180000
DTEND;TZID="Europe/Berlin":20130706T230000
LOCATION:Tillmann's \, Brückenstraße 17\, 09111 Chemnitz 
SUMMARY:Europa-Studien-Sommerfest (Philosophische Fakultät)
DESCRIPTION:Unter dem Titel "Europa(-Studien) vernetzt" findet auch in diesem Jahr das 12. Sommerfest der Europastudien statt und Alumni\, Studenten und Professoren kommen in einem festlichen Rahmen zusammen.\nmonique.reuther@s2010.tu-chemnitz.de
ORGANIZER:MAILTO:simone.babutzka@s2010.tu-chemnitz.de
UID:15181@www.tu-chemnitz.de
CREATED:20130530T160800Z
DTSTAMP:20210802T191240Z
END:VEVENT
END:VCALENDAR
