BEGIN:VCALENDAR
VERSION:2.0
PRODID:TU Chemnitz
METHOD:PUBLISH
X-WR-CALNAME:Veranstaltungen der TU Chemnitz
X-WR-TIMEZONE:Europe/Berlin
BEGIN:VEVENT
CLASS:PUBLIC
DTSTART;TZID="Europe/Berlin":20130606T090000
DTEND;TZID="Europe/Berlin":20130606T110000
LOCATION:Str. der Nationen 62\, Chemnitz (Böttcher-Bau)
SUMMARY:Informatik-Kolloquium (Fakultät für Informatik\, Professur Graphische Datenverarbeitung und Visualisierung)
DESCRIPTION:Vortrag zum Thema "Physical-Virtual Humans for Training and Teleportation"\n Prof. Gregory Welch\, Ph. D. Institute for Simulation & Training The University of Central Florida\ndekanat@informatik.tu-chemnitz.de
ORGANIZER:MAILTO:ulrike.luthe@informatik.tu-chemnitz.de
UID:15172@www.tu-chemnitz.de
CREATED:20130527T073700Z
DTSTAMP:20210802T191313Z
END:VEVENT
END:VCALENDAR
