BEGIN:VCALENDAR
VERSION:2.0
PRODID:TU Chemnitz
METHOD:PUBLISH
X-WR-CALNAME:Veranstaltungen der TU Chemnitz
X-WR-TIMEZONE:Europe/Berlin
BEGIN:VEVENT
CLASS:PUBLIC
DTSTART;TZID="Europe/Berlin":20130605T171500
DTEND;TZID="Europe/Berlin":20130605T183000
LOCATION:Reichenhainer Str. 90\, Chemnitz (Zentr. Hörsaal- und Seminargebäude)
SUMMARY:Physikalisches Kolloquium (Fakultät für Naturwissenschaften\, Institut für Physik)
DESCRIPTION:Thema: "Magnetic x-ray microscopy - from nanoscale behavior to mesoscale phenomena"\nDr. Peter Fischer (Berkeley / USA)\nProf. Dr. M. Albrecht
ORGANIZER:MAILTO:evelin.straube@physik.tu-chemnitz.de
UID:15166@www.tu-chemnitz.de
CREATED:20130521T101300Z
DTSTAMP:20210802T191315Z
END:VEVENT
END:VCALENDAR
