BEGIN:VCALENDAR
VERSION:2.0
PRODID:TU Chemnitz
METHOD:PUBLISH
X-WR-CALNAME:Veranstaltungen der TU Chemnitz
X-WR-TIMEZONE:Europe/Berlin
BEGIN:VEVENT
CLASS:PUBLIC
DTSTART;TZID="Europe/Berlin":20130702T171500
DTEND;TZID="Europe/Berlin":20130702T184500
LOCATION:Career Service\, Stadler Str. 14 a\, Raum 308
SUMMARY:Frauen machen Karriere (TU Chemnitz\, Career Service)
DESCRIPTION:In der Vortrags- und Gesprächsreiche geht es diesmal um: Kommunikation und Selbstbehauptung in der Berufsanfangsphase\nAnnett Barth\nAgnes Honka\, 0371 531 39831\, agnes.honka@hrz.tu-chemnitz.de
ORGANIZER:MAILTO:ronald.herzog@hrz.tu-chemnitz.de
UID:15159@www.tu-chemnitz.de
CREATED:20130517T125700Z
DTSTAMP:20210802T191240Z
END:VEVENT
END:VCALENDAR
