BEGIN:VCALENDAR
VERSION:2.0
PRODID:TU Chemnitz
METHOD:PUBLISH
X-WR-CALNAME:Veranstaltungen der TU Chemnitz
X-WR-TIMEZONE:Europe/Berlin
BEGIN:VEVENT
CLASS:PUBLIC
DTSTART;TZID="Europe/Berlin":20130628T090000
DTEND;TZID="Europe/Berlin":20130629T170000
LOCATION:Pegasuscenter (Erdgeschoss)\, Stadlerstraße 14a
SUMMARY:Workshop "Grundlagen des Projektmanagements: Berufspraktisches Know-how" (TU Chemnitz\, Career Service)
DESCRIPTION:Projektmanagement ist ein professionelles Kommunikations- und Koordinationsinstrument\, das immer größere Bedeutung in Organisationen und Unternehmen bekommt. Es unterstützt die Beteiligten bei der Zieldefinition und bei der Umsetzung der Zielstellung.\nKerstin Weber\nCareer Service\, Tel.: 0371 - 531 19930\, career-service@tu-chemnitz.de
ORGANIZER:MAILTO:marc.stoll@hrz.tu-chemnitz.de
UID:15145@www.tu-chemnitz.de
CREATED:20130517T103100Z
DTSTAMP:20210802T191306Z
END:VEVENT
END:VCALENDAR
