BEGIN:VCALENDAR
VERSION:2.0
PRODID:TU Chemnitz
METHOD:PUBLISH
X-WR-CALNAME:Veranstaltungen der TU Chemnitz
X-WR-TIMEZONE:Europe/Berlin
BEGIN:VEVENT
CLASS:PUBLIC
DTSTART;TZID="Europe/Berlin":20130607T090000
DTEND;TZID="Europe/Berlin":20130608T170000
LOCATION:Pegasuscenter (Erdgeschoss)\, Stadlerstraße 14a 
SUMMARY:Workshop "Führung für Frauen" (TU Chemnitz\, Career Service)
DESCRIPTION:Auf neue Führungskräfte warten zahlreichen Fragen: Was ist meine Rolle\, wie verhalte ich mich\, welcher Führungsstil ist der Richtige\, wie gehe ich mit Konflikten um. Im Workshop entwickelt ihr u.a. Antworten auf diese Fragen.\nDr. Claudia Nebel-Töpfer \nCareer Service\, Tel.: 0371 - 531 19930\, career-service@tu-chemnitz.de
ORGANIZER:MAILTO:marc.stoll@hrz.tu-chemnitz.de
UID:15138@www.tu-chemnitz.de
CREATED:20130517T102000Z
DTSTAMP:20210802T191316Z
END:VEVENT
END:VCALENDAR
