BEGIN:VCALENDAR
VERSION:2.0
PRODID:TU Chemnitz
METHOD:PUBLISH
X-WR-CALNAME:Veranstaltungen der TU Chemnitz
X-WR-TIMEZONE:Europe/Berlin
BEGIN:VEVENT
CLASS:PUBLIC
DTSTART;TZID="Europe/Berlin":20130611T171500
DTEND;TZID="Europe/Berlin":20130611T184500
LOCATION:Reichenhainer Str. 90\, Chemnitz (Zentr. Hörsaal- und Seminargebäude)
SUMMARY:The Perfect Job Application (TU Chemnitz\, Career Service)
DESCRIPTION:If you are looking for a job or an internship in Germany and would like to find out about the application procedure\, then this information session is what you need. In a few steps\, you will learn what makes the perfect job application in Germany.\nCareer Service\, Tel.: 0371 - 531 19930\, career-service@tu-chemnitz.de
ORGANIZER:MAILTO:anke.bartsch@hrz.tu-chemnitz.de
UID:15129@www.tu-chemnitz.de
CREATED:20130516T203500Z
DTSTAMP:20210802T191314Z
END:VEVENT
END:VCALENDAR
