BEGIN:VCALENDAR
VERSION:2.0
PRODID:TU Chemnitz
METHOD:PUBLISH
X-WR-CALNAME:Veranstaltungen der TU Chemnitz
X-WR-TIMEZONE:Europe/Berlin
BEGIN:VEVENT
CLASS:PUBLIC
DTSTART;TZID="Europe/Berlin":20130618T171500
DTEND;TZID="Europe/Berlin":20130618T184500
LOCATION:Wilhelm-Raabe-Str. 43\, Chemnitz
SUMMARY:Institutskolloquium Psychologie (Fakultät für Human- und Sozialwissenschaften)
DESCRIPTION:"Entwicklungsdiagnostik im Vorschulalter: Intelligence and Developmental Scales - Preschool (IDS-P) - in Zusammenarbeit mit dem Verlag Hogrefe\, Lektorat Psychodiagnostische Testverfahren"\nProf. Dr. Alexander Grob\, Universität Basel\nSabine Dittrich\, Tel. 531 36313
ORGANIZER:MAILTO:sabine.dittrich@psychologie.tu-chemnitz.de
UID:15117@www.tu-chemnitz.de
CREATED:20130515T120000Z
DTSTAMP:20210802T191306Z
END:VEVENT
END:VCALENDAR
