BEGIN:VCALENDAR
VERSION:2.0
PRODID:TU Chemnitz
METHOD:PUBLISH
X-WR-CALNAME:Veranstaltungen der TU Chemnitz
X-WR-TIMEZONE:Europe/Berlin
BEGIN:VEVENT
CLASS:PUBLIC
DTSTART;TZID="Europe/Berlin":20130521T140000
DTEND;TZID="Europe/Berlin":20130521T190000
LOCATION:Reichenhainer Str. 90\, Chemnitz (Zentr. Hörsaal- und Seminargebäude)
SUMMARY:Projekttag "Solidarische Ökonomie" (Fakultät für Wirtschaftswissenschaften\, Juniorprofessur Europäisches Management)
DESCRIPTION:Daniela Kolbe\, MdB\nDr. Ronald Hartz\, ronald.hartz@wirtschaft.tu-chemnitz.de
ORGANIZER:MAILTO:ronald.hartz@wirtschaft.tu-chemnitz.de
UID:15106@www.tu-chemnitz.de
CREATED:20130509T215500Z
DTSTAMP:20210802T191352Z
END:VEVENT
END:VCALENDAR
