BEGIN:VCALENDAR
VERSION:2.0
PRODID:TU Chemnitz
METHOD:PUBLISH
X-WR-CALNAME:Veranstaltungen der TU Chemnitz
X-WR-TIMEZONE:Europe/Berlin
BEGIN:VEVENT
CLASS:PUBLIC
DTSTART;TZID="Europe/Berlin":20130710T130000
DTEND;TZID="Europe/Berlin":20130710T143000
LOCATION:Str. der Nationen 62\, Chemnitz (Böttcher-Bau)
SUMMARY:Informatik-Kolloquium (Fakultät für Informatik)
DESCRIPTION:Vortrag in Vorbereitung der Habilitation zum Thema: Parallele Algorithmen zur effizienten Beschleunigung Kombinatorischer Optimierung\nProf. Jörg Lässig\, Hochschule Zittau/Görlitz\ndekenat@informatik.tu-chemnitz.de
ORGANIZER:MAILTO:ulrike.luthe@informatik.tu-chemnitz.de
UID:15090@www.tu-chemnitz.de
CREATED:20130507T105400Z
DTSTAMP:20210802T191233Z
END:VEVENT
END:VCALENDAR
